BEGIN:VCALENDAR
VERSION:2.0
PRODID:-//East Hamilton High School - ECPv6.15.20//NONSGML v1.0//EN
CALSCALE:GREGORIAN
METHOD:PUBLISH
X-WR-CALNAME:East Hamilton High School
X-ORIGINAL-URL:https://ehhs.staging.hcde.org
X-WR-CALDESC:Events for East Hamilton High School
REFRESH-INTERVAL;VALUE=DURATION:PT1H
X-Robots-Tag:noindex
X-PUBLISHED-TTL:PT1H
BEGIN:VTIMEZONE
TZID:America/New_York
BEGIN:DAYLIGHT
TZOFFSETFROM:-0500
TZOFFSETTO:-0400
TZNAME:EDT
DTSTART:20240310T070000
END:DAYLIGHT
BEGIN:STANDARD
TZOFFSETFROM:-0400
TZOFFSETTO:-0500
TZNAME:EST
DTSTART:20241103T060000
END:STANDARD
BEGIN:DAYLIGHT
TZOFFSETFROM:-0500
TZOFFSETTO:-0400
TZNAME:EDT
DTSTART:20250309T070000
END:DAYLIGHT
BEGIN:STANDARD
TZOFFSETFROM:-0400
TZOFFSETTO:-0500
TZNAME:EST
DTSTART:20251102T060000
END:STANDARD
BEGIN:DAYLIGHT
TZOFFSETFROM:-0500
TZOFFSETTO:-0400
TZNAME:EDT
DTSTART:20260308T070000
END:DAYLIGHT
BEGIN:STANDARD
TZOFFSETFROM:-0400
TZOFFSETTO:-0500
TZNAME:EST
DTSTART:20261101T060000
END:STANDARD
END:VTIMEZONE
BEGIN:VEVENT
DTSTART;TZID=America/New_York:20250911T170000
DTEND;TZID=America/New_York:20250911T190000
DTSTAMP:20260424T123032
CREATED:20250905T170347Z
LAST-MODIFIED:20250905T170403Z
UID:10000026-1757610000-1757617200@ehhs.staging.hcde.org
SUMMARY:Volleyball vs Bradley
DESCRIPTION:
URL:https://ehhs.staging.hcde.org/event/volleyball-vs-bradley/
END:VEVENT
BEGIN:VEVENT
DTSTART;TZID=America/New_York:20250911T190000
DTEND;TZID=America/New_York:20250911T210000
DTSTAMP:20260424T123032
CREATED:20250905T170450Z
LAST-MODIFIED:20250905T170450Z
UID:10000027-1757617200-1757624400@ehhs.staging.hcde.org
SUMMARY:Girls Soccer @ Rhea County
DESCRIPTION:
URL:https://ehhs.staging.hcde.org/event/girls-soccer-rhea-county/
END:VEVENT
END:VCALENDAR